BEGIN:VCALENDAR
PRODID:-//PUBBLE//agenda//NL
VERSION:2.0
METHOD:PUBLISH
BEGIN:VEVENT
DTSTART:20180902T140000Z
DTEND:20180902T140000Z
DTSTAMP:20260425T160800Z
UID:a714e171-f19d-4232-ae45-d78cee876bc0
CREATED:20260425T160800Z
NAME:Evensong met het Wijks Vocaal wijksnieuws.nl
X-WR-CALNAME:Evensong met het Wijks Vocaal
X-ALT-DESC;FMTTYPE=text/html:<a href='/agenda/2018/9/2/evensong-met-het-wijks-vocaal-478415-105232'>/agenda/2018/9/2/evensong-met-het-wijks-vocaal-478415-105232</a> || Meeliften op Engelse kerkmuziek...
Wijks Vocaal bijt het spits af
De Engelse kerk heeft een heel eigen muziektraditie, waarin koren een hoofdrol spelen. Er wordt in de landstaal gezongen (Engels dus) en de muziek is zeer melodieus. In de opbouw van de samenklank tussen de verschillende koorstemmen hebben Engelse componisten zich uitgeleefd en een grote hoogte bereikt. Met name dit laatste maakt de Engelse koormuziek anders dan die van het Europese vasteland.
Wie dat graag een keer wil horen kan terecht in een Evensong. Dat is een kort, grotendeels gezongen gebed op de grens van middag en avond. 
Aanstaande zondagmiddag
verzorgt het Wijks Vocaal de koorpartij in de Evensong in de Grote Kerk. Daarmee gaat de Evensongtraditie hier in Wijk bij Duurstede haar vierde seizoen in. Het Wijks Vocaal staat onder leiding van Bernhard Touwen en Pim Schipper bespeelt het 16e eeuwse Kiespenningorgel (zie foto). Liturg is em. ds. Henk Kroese.
Koor en organist hebben in een Evensong de hoofdrol. De aanwezigen kunnen luisteren en meezingen met de hymns. Zo liften de aanwezigen – om zo te zeggen - mee op de lofzang van de Engelse kerk, want aan lofzang wordt in deze avondgebeden veel aandacht besteed.
Als u van koormuziek houdt, en de gewijde sfeer van een avondgebed wilt proeven, kom dan aanstaande zondag 2 september luisteren en doe – als u dat wilt – mee met de samenzang. De Evensong in de Grote Kerk begint om vier uur en de toegang is gratis. Wel is er na afloop een deurcollecte voor wie wil bijdragen in de kosten van deze traditie.

DESCRIPTION:<a href='/agenda/2018/9/2/evensong-met-het-wijks-vocaal-478415-105232'>/agenda/2018/9/2/evensong-met-het-wijks-vocaal-478415-105232</a> || Meeliften op Engelse kerkmuziek...
Wijks Vocaal bijt het spits af
De Engelse kerk heeft een heel eigen muziektraditie, waarin koren een hoofdrol spelen. Er wordt in de landstaal gezongen (Engels dus) en de muziek is zeer melodieus. In de opbouw van de samenklank tussen de verschillende koorstemmen hebben Engelse componisten zich uitgeleefd en een grote hoogte bereikt. Met name dit laatste maakt de Engelse koormuziek anders dan die van het Europese vasteland.
Wie dat graag een keer wil horen kan terecht in een Evensong. Dat is een kort, grotendeels gezongen gebed op de grens van middag en avond. 
Aanstaande zondagmiddag
verzorgt het Wijks Vocaal de koorpartij in de Evensong in de Grote Kerk. Daarmee gaat de Evensongtraditie hier in Wijk bij Duurstede haar vierde seizoen in. Het Wijks Vocaal staat onder leiding van Bernhard Touwen en Pim Schipper bespeelt het 16e eeuwse Kiespenningorgel (zie foto). Liturg is em. ds. Henk Kroese.
Koor en organist hebben in een Evensong de hoofdrol. De aanwezigen kunnen luisteren en meezingen met de hymns. Zo liften de aanwezigen – om zo te zeggen - mee op de lofzang van de Engelse kerk, want aan lofzang wordt in deze avondgebeden veel aandacht besteed.
Als u van koormuziek houdt, en de gewijde sfeer van een avondgebed wilt proeven, kom dan aanstaande zondag 2 september luisteren en doe – als u dat wilt – mee met de samenzang. De Evensong in de Grote Kerk begint om vier uur en de toegang is gratis. Wel is er na afloop een deurcollecte voor wie wil bijdragen in de kosten van deze traditie.

LAST-MODIFIED:20260425T160800Z
LOCATION: Grote Kerk | Markt 22 Wijk bij Duurstede
SEQUENCE:0
STATUS:CONFIRMED
SUMMARY:Evensong met het Wijks Vocaal
TRANSP:OPAQUE
END:VEVENT
END:VCALENDAR
